BEGIN:VCALENDAR
VERSION:2.0
PRODID:-//wp-events-plugin.com//7.2.3.1//EN
TZID:Australia/Sydney
X-WR-TIMEZONE:Australia/Sydney
BEGIN:VEVENT
UID:6@christianhypnotism.com
DTSTART;TZID=Australia/Sydney:20260119T190000
DTEND;TZID=Australia/Sydney:20260119T210000
DTSTAMP:20260112T123610Z
URL:https://christianhypnotism.com/events/secrets-of-conversational-hypnos
 is/
SUMMARY:Secrets of Conversational Hypnosis
DESCRIPTION:If you read about conversational hypnosis\, you'll hear about l
 anguage patterns. Things you can do with words to create greater resilienc
 e\, foster creativity\, overcome pain and limitation\, and help people dis
 cover what they need to discover.\n\nIt's great stuff.\n\nA really good gu
 ide to conversational hypnosis will cover what you\, as the hypnotist\, ne
 ed to do inside your own mind. It'll go well beyond the language\, talking
  about how you should be calm\, confident\, engaged\, curious\, caring\, e
 ager to help...\n\nEven better. Get that right and the language patterns a
 lmost don't matter.\n\nBut there's something even better\, even more funda
 mental.\n\nYou get this right and everything else becomes trivial.\n\nThe
  Secrets to Conversational Hypnosis aren't something you'll hear about oft
 en. I suspect most skilled hypnotists do this without realising - I know i
 t took me a while\, long after mastering the skill\, to notice it.\n\nAnd 
 some experts probably think you can't teach this. It's impossible. It's an
  X-factor\, something you must develop for yourself over years of experien
 ce.\n\nI'll teach it to you anyway\, in a couple of hours. This won't be t
 he first impossible thing I've done.\n\nAnd when you learn this\, folks wi
 ll say you can do the impossible too.\n\nThe Secrets of Conversational Hyp
 nosis will change how you work with people\, whether you're a hypnotist\, 
 a manager\, a consultant or you talk to people as part of your job.\n\nAnd
  there's a reasonable chance it'll change how you communicate with everyon
 e.\n\nIf you're interested\, register below. There'll be no recording of t
 his - it must be a live experience. Attend and get the skills\, or... don'
 t. It's up to you how well you want to start 2026.
LOCATION:https://www.zoom.com/
END:VEVENT
BEGIN:VTIMEZONE
TZID:Australia/Sydney
X-LIC-LOCATION:Australia/Sydney
BEGIN:DAYLIGHT
DTSTART:20251005T030000
TZOFFSETFROM:+1000
TZOFFSETTO:+1100
TZNAME:AEDT
END:DAYLIGHT
END:VTIMEZONE
END:VCALENDAR